View In:
ArcGIS JavaScript
ArcGIS Online Map Viewer
ArcGIS Earth
ArcMap
View Footprint In:
ArcGIS Online Map Viewer
Service Description: Imageservice/dop_uav
Name: Imageservice/dop_uav
Description:
Single Fused Map Cache: false
Extent:
XMin: 531276.274446997
YMin: 5444085.03624417
XMax: 551156.609096031
YMax: 5470338.071145948
Spatial Reference: 25832
(25832)
Initial Extent:
XMin: 531276.274446997
YMin: 5444085.03624417
XMax: 551156.609096031
YMax: 5470338.071145948
Spatial Reference: 25832
(25832)
Full Extent:
XMin: 531276.274446997
YMin: 5444085.03624417
XMax: 551156.609096031
YMax: 5470338.071145948
Spatial Reference: 25832
(25832)
Pixel Size X: 0.009401010000006657
Pixel Size Y: 0.009401010000006522
Band Count: 3
Pixel Type: U8
RasterFunction Infos: {"rasterFunctionInfos": [{
"name": "None",
"description": "",
"help": ""
}]}
Mensuration Capabilities: Basic
Has Histograms: true
Has Colormap: false
Has Multi Dimensions : false
Rendering Rule:
Min Scale: 0
Max Scale: 0
Copyright Text:
Service Data Type: esriImageServiceDataTypeRGB
Min Values: 0, 0, 0
Max Values: 255, 255, 255
Mean Values: 72.05254565938071, 80.13834464243577, 58.88518026496977
Standard Deviation Values: 61.508035944787956, 62.89255205038305, 53.52103802624058
Object ID Field: OBJECTID
Fields:
-
OBJECTID
(
type: esriFieldTypeOID, alias: OBJECTID
)
-
Shape
(
type: esriFieldTypeGeometry, alias: Shape
)
-
Name
(
type: esriFieldTypeString, alias: Name, length: 200
)
-
MinPS
(
type: esriFieldTypeDouble, alias: MinPS
)
-
MaxPS
(
type: esriFieldTypeDouble, alias: MaxPS
)
-
LowPS
(
type: esriFieldTypeDouble, alias: LowPS
)
-
HighPS
(
type: esriFieldTypeDouble, alias: HighPS
)
-
Category
(
type: esriFieldTypeInteger, alias: Category
, Coded Values:
[0: Unknown]
, [1: Primary]
, [2: Overview]
, ...6 more...
)
-
Tag
(
type: esriFieldTypeString, alias: Tag, length: 100
)
-
GroupName
(
type: esriFieldTypeString, alias: GroupName, length: 100
)
-
ProductName
(
type: esriFieldTypeString, alias: ProductName, length: 100
)
-
CenterX
(
type: esriFieldTypeDouble, alias: CenterX
)
-
CenterY
(
type: esriFieldTypeDouble, alias: CenterY
)
-
ZOrder
(
type: esriFieldTypeInteger, alias: ZOrder
)
-
Shape_Length
(
type: esriFieldTypeDouble, alias: Shape_Length
)
-
Shape_Area
(
type: esriFieldTypeDouble, alias: Shape_Area
)
-
befliegungsdatum
(
type: esriFieldTypeDate, alias: Befliegungsdatum, length: 8
)
-
aufloesung
(
type: esriFieldTypeDouble, alias: Originalauflösung
)
-
dgm
(
type: esriFieldTypeSmallInteger, alias: DGM vorhanden ja/nein
, Coded Values:
[0: nein]
, [1: ja]
)
-
mesh3d
(
type: esriFieldTypeSmallInteger, alias: 3D-Mesh vorhanden ja/nein
, Coded Values:
[0: nein]
, [1: ja]
)
-
projektbeschreibung
(
type: esriFieldTypeString, alias: Projektbeschreibung, length: 50000
)
-
aufgabenbeschreibung
(
type: esriFieldTypeString, alias: Aufgabenbeschreibung, length: 5000
)
-
NAMGEM
(
type: esriFieldTypeString, alias: NAMGEM, length: 254
)
Default Mosaic Method: Northwest
Allowed Mosaic Methods: NorthWest,Center,LockRaster,ByAttribute,Nadir,Viewpoint,Seamline,None
SortField:
SortValue: null
Mosaic Operator: First
Default Compression Quality: 75
Default Resampling Method: Bilinear
Max Record Count: 1000
Max Image Height: 4100
Max Image Width: 15000
Max Download Image Count: 20
Max Mosaic Image Count: 20
Allow Raster Function: true
Allow Copy: true
Allow Analysis: true
Allow Compute TiePoints: false
Supports Statistics: true
Supports Advanced Queries: true
Use StandardizedQueries: true
Raster Type Infos:
Name: Raster Dataset
Description: Supports all ArcGIS Raster Datasets
Help:
Has Raster Attribute Table: false
Edit Fields Info: null
Ownership Based AccessControl For Rasters: null
Child Resources:
Info
Histograms
Statistics
Key Properties
Legend
Raster Function Infos
Supported Operations:
Export Image
Query
Identify
Measure
Compute Histograms
Compute Statistics Histograms
Get Samples
Compute Class Statistics
Query Boundary
Compute Pixel Location
Validate
Project